BEGIN:VCALENDAR
VERSION:2.0
PRODID:http://www.kufer.de/kuferweb / DE
METHOD:PUBLISH
CALSCALE:GREGORIAN
X-WR-TIMEZONE:Europe/Berlin
BEGIN:VTIMEZONE
TZID:Europe/Berlin
X-LIC-LOCATION:Europe/Berlin
BEGIN:DAYLIGHT
TZOFFSETFROM:+0100
TZOFFSETTO:+0200
TZNAME:CEST
DTSTART;TZID=Europe/Berlin:19700329T020000
RRULE:FREQ=YEARLY;INTERVAL=1;BYDAY=-1SU;BYMONTH=3
END:DAYLIGHT
BEGIN:STANDARD
TZOFFSETFROM:+0200
TZOFFSETTO:+0100
TZNAME:CET
DTSTART;TZID=Europe/Berlin:19701025T030000
RRULE:FREQ=YEARLY;INTERVAL=1;BYDAY=-1SU;BYMONTH=10
END:STANDARD
END:VTIMEZONE
BEGIN:VEVENT
DTSTAMP:20260421T202111
DTSTART;TZID=Europe/Berlin:20260213T084500
DTEND;TZID=Europe/Berlin:20260213T101500
UID:R53141-O-20260213T084500@VHSWITTEN-WETTER-HERDECKE
SUMMARY:Französisch: Conversation française, C1 - Onlinekurs, Teil 1 (R53141-O) 
LOCATION:Online, , 
END:VEVENT
BEGIN:VEVENT
DTSTAMP:20260421T202111
DTSTART;TZID=Europe/Berlin:20260220T084500
DTEND;TZID=Europe/Berlin:20260220T101500
UID:R53141-O-20260220T084500@VHSWITTEN-WETTER-HERDECKE
SUMMARY:Französisch: Conversation française, C1 - Onlinekurs, Teil 1 (R53141-O) 
LOCATION:Online, , 
END:VEVENT
BEGIN:VEVENT
DTSTAMP:20260421T202111
DTSTART;TZID=Europe/Berlin:20260227T084500
DTEND;TZID=Europe/Berlin:20260227T101500
UID:R53141-O-20260227T084500@VHSWITTEN-WETTER-HERDECKE
SUMMARY:Französisch: Conversation française, C1 - Onlinekurs, Teil 1 (R53141-O) 
LOCATION:Online, , 
END:VEVENT
BEGIN:VEVENT
DTSTAMP:20260421T202111
DTSTART;TZID=Europe/Berlin:20260306T084500
DTEND;TZID=Europe/Berlin:20260306T101500
UID:R53141-O-20260306T084500@VHSWITTEN-WETTER-HERDECKE
SUMMARY:Französisch: Conversation française, C1 - Onlinekurs, Teil 1 (R53141-O) 
LOCATION:Online, , 
END:VEVENT
BEGIN:VEVENT
DTSTAMP:20260421T202111
DTSTART;TZID=Europe/Berlin:20260313T084500
DTEND;TZID=Europe/Berlin:20260313T101500
UID:R53141-O-20260313T084500@VHSWITTEN-WETTER-HERDECKE
SUMMARY:Französisch: Conversation française, C1 - Onlinekurs, Teil 1 (R53141-O) 
LOCATION:Online, , 
END:VEVENT
BEGIN:VEVENT
DTSTAMP:20260421T202111
DTSTART;TZID=Europe/Berlin:20260320T084500
DTEND;TZID=Europe/Berlin:20260320T101500
UID:R53141-O-20260320T084500@VHSWITTEN-WETTER-HERDECKE
SUMMARY:Französisch: Conversation française, C1 - Onlinekurs, Teil 1 (R53141-O) 
LOCATION:Online, , 
END:VEVENT
BEGIN:VEVENT
DTSTAMP:20260421T202111
DTSTART;TZID=Europe/Berlin:20260327T084500
DTEND;TZID=Europe/Berlin:20260327T101500
UID:R53141-O-20260327T084500@VHSWITTEN-WETTER-HERDECKE
SUMMARY:Französisch: Conversation française, C1 - Onlinekurs, Teil 1 (R53141-O) 
LOCATION:Online, , 
END:VEVENT
END:VCALENDAR