BEGIN:VCALENDAR
VERSION:2.0
PRODID:http://www.kufer.de/kuferweb / DE
METHOD:PUBLISH
CALSCALE:GREGORIAN
X-WR-TIMEZONE:Europe/Berlin
BEGIN:VTIMEZONE
TZID:Europe/Berlin
X-LIC-LOCATION:Europe/Berlin
BEGIN:DAYLIGHT
TZOFFSETFROM:+0100
TZOFFSETTO:+0200
TZNAME:CEST
DTSTART;TZID=Europe/Berlin:19700329T020000
RRULE:FREQ=YEARLY;INTERVAL=1;BYDAY=-1SU;BYMONTH=3
END:DAYLIGHT
BEGIN:STANDARD
TZOFFSETFROM:+0200
TZOFFSETTO:+0100
TZNAME:CET
DTSTART;TZID=Europe/Berlin:19701025T030000
RRULE:FREQ=YEARLY;INTERVAL=1;BYDAY=-1SU;BYMONTH=10
END:STANDARD
END:VTIMEZONE
BEGIN:VEVENT
DTSTAMP:20260421T104336
DTSTART;TZID=Europe/Berlin:20260211T104500
DTEND;TZID=Europe/Berlin:20260211T121500
UID:R52761-20260211T104500@VHSWITTEN-WETTER-HERDECKE
SUMMARY:English conversation with a native speaker, Level B2, Teil 1 (R52761) 
LOCATION:Bürgerhaus Wetter, Kaiserstr. 132, 58300 Wetter
END:VEVENT
BEGIN:VEVENT
DTSTAMP:20260421T104336
DTSTART;TZID=Europe/Berlin:20260218T104500
DTEND;TZID=Europe/Berlin:20260218T121500
UID:R52761-20260218T104500@VHSWITTEN-WETTER-HERDECKE
SUMMARY:English conversation with a native speaker, Level B2, Teil 1 (R52761) 
LOCATION:Bürgerhaus Wetter, Kaiserstr. 132, 58300 Wetter
END:VEVENT
BEGIN:VEVENT
DTSTAMP:20260421T104336
DTSTART;TZID=Europe/Berlin:20260225T104500
DTEND;TZID=Europe/Berlin:20260225T121500
UID:R52761-20260225T104500@VHSWITTEN-WETTER-HERDECKE
SUMMARY:English conversation with a native speaker, Level B2, Teil 1 (R52761) 
LOCATION:Bürgerhaus Wetter, Kaiserstr. 132, 58300 Wetter
END:VEVENT
BEGIN:VEVENT
DTSTAMP:20260421T104336
DTSTART;TZID=Europe/Berlin:20260304T104500
DTEND;TZID=Europe/Berlin:20260304T121500
UID:R52761-20260304T104500@VHSWITTEN-WETTER-HERDECKE
SUMMARY:English conversation with a native speaker, Level B2, Teil 1 (R52761) 
LOCATION:Bürgerhaus Wetter, Kaiserstr. 132, 58300 Wetter
END:VEVENT
BEGIN:VEVENT
DTSTAMP:20260421T104336
DTSTART;TZID=Europe/Berlin:20260311T104500
DTEND;TZID=Europe/Berlin:20260311T121500
UID:R52761-20260311T104500@VHSWITTEN-WETTER-HERDECKE
SUMMARY:English conversation with a native speaker, Level B2, Teil 1 (R52761) 
LOCATION:Bürgerhaus Wetter, Kaiserstr. 132, 58300 Wetter
END:VEVENT
BEGIN:VEVENT
DTSTAMP:20260421T104336
DTSTART;TZID=Europe/Berlin:20260318T104500
DTEND;TZID=Europe/Berlin:20260318T121500
UID:R52761-20260318T104500@VHSWITTEN-WETTER-HERDECKE
SUMMARY:English conversation with a native speaker, Level B2, Teil 1 (R52761) 
LOCATION:Bürgerhaus Wetter, Kaiserstr. 132, 58300 Wetter
END:VEVENT
BEGIN:VEVENT
DTSTAMP:20260421T104336
DTSTART;TZID=Europe/Berlin:20260325T104500
DTEND;TZID=Europe/Berlin:20260325T121500
UID:R52761-20260325T104500@VHSWITTEN-WETTER-HERDECKE
SUMMARY:English conversation with a native speaker, Level B2, Teil 1 (R52761) 
LOCATION:Bürgerhaus Wetter, Kaiserstr. 132, 58300 Wetter
END:VEVENT
END:VCALENDAR