BEGIN:VCALENDAR
VERSION:2.0
PRODID:http://www.kufer.de/kuferweb / DE
METHOD:PUBLISH
CALSCALE:GREGORIAN
X-WR-TIMEZONE:Europe/Berlin
BEGIN:VTIMEZONE
TZID:Europe/Berlin
X-LIC-LOCATION:Europe/Berlin
BEGIN:DAYLIGHT
TZOFFSETFROM:+0100
TZOFFSETTO:+0200
TZNAME:CEST
DTSTART;TZID=Europe/Berlin:19700329T020000
RRULE:FREQ=YEARLY;INTERVAL=1;BYDAY=-1SU;BYMONTH=3
END:DAYLIGHT
BEGIN:STANDARD
TZOFFSETFROM:+0200
TZOFFSETTO:+0100
TZNAME:CET
DTSTART;TZID=Europe/Berlin:19701025T030000
RRULE:FREQ=YEARLY;INTERVAL=1;BYDAY=-1SU;BYMONTH=10
END:STANDARD
END:VTIMEZONE
BEGIN:VEVENT
DTSTAMP:20260419T142256
DTSTART;TZID=Europe/Berlin:20260212T190000
DTEND;TZID=Europe/Berlin:20260212T203000
UID:R52751-20260212T190000@VHSWITTEN-WETTER-HERDECKE
SUMMARY:Practising English, Level B2 - Teil 1 (R52751) 
LOCATION:Albert-Martmöller-Gymnasium, Oberdorf 9, 58452 Witten
END:VEVENT
BEGIN:VEVENT
DTSTAMP:20260419T142256
DTSTART;TZID=Europe/Berlin:20260219T190000
DTEND;TZID=Europe/Berlin:20260219T203000
UID:R52751-20260219T190000@VHSWITTEN-WETTER-HERDECKE
SUMMARY:Practising English, Level B2 - Teil 1 (R52751) 
LOCATION:Albert-Martmöller-Gymnasium, Oberdorf 9, 58452 Witten
END:VEVENT
BEGIN:VEVENT
DTSTAMP:20260419T142256
DTSTART;TZID=Europe/Berlin:20260226T190000
DTEND;TZID=Europe/Berlin:20260226T203000
UID:R52751-20260226T190000@VHSWITTEN-WETTER-HERDECKE
SUMMARY:Practising English, Level B2 - Teil 1 (R52751) 
LOCATION:Albert-Martmöller-Gymnasium, Oberdorf 9, 58452 Witten
END:VEVENT
BEGIN:VEVENT
DTSTAMP:20260419T142256
DTSTART;TZID=Europe/Berlin:20260305T190000
DTEND;TZID=Europe/Berlin:20260305T203000
UID:R52751-20260305T190000@VHSWITTEN-WETTER-HERDECKE
SUMMARY:Practising English, Level B2 - Teil 1 (R52751) 
LOCATION:Albert-Martmöller-Gymnasium, Oberdorf 9, 58452 Witten
END:VEVENT
BEGIN:VEVENT
DTSTAMP:20260419T142256
DTSTART;TZID=Europe/Berlin:20260312T190000
DTEND;TZID=Europe/Berlin:20260312T203000
UID:R52751-20260312T190000@VHSWITTEN-WETTER-HERDECKE
SUMMARY:Practising English, Level B2 - Teil 1 (R52751) 
LOCATION:Albert-Martmöller-Gymnasium, Oberdorf 9, 58452 Witten
END:VEVENT
BEGIN:VEVENT
DTSTAMP:20260419T142256
DTSTART;TZID=Europe/Berlin:20260319T190000
DTEND;TZID=Europe/Berlin:20260319T203000
UID:R52751-20260319T190000@VHSWITTEN-WETTER-HERDECKE
SUMMARY:Practising English, Level B2 - Teil 1 (R52751) 
LOCATION:Albert-Martmöller-Gymnasium, Oberdorf 9, 58452 Witten
END:VEVENT
BEGIN:VEVENT
DTSTAMP:20260419T142256
DTSTART;TZID=Europe/Berlin:20260326T190000
DTEND;TZID=Europe/Berlin:20260326T203000
UID:R52751-20260326T190000@VHSWITTEN-WETTER-HERDECKE
SUMMARY:Practising English, Level B2 - Teil 1 (R52751) 
LOCATION:Albert-Martmöller-Gymnasium, Oberdorf 9, 58452 Witten
END:VEVENT
END:VCALENDAR