BEGIN:VCALENDAR
VERSION:2.0
PRODID:http://www.kufer.de/kuferweb / DE
METHOD:PUBLISH
CALSCALE:GREGORIAN
X-WR-TIMEZONE:Europe/Berlin
BEGIN:VTIMEZONE
TZID:Europe/Berlin
X-LIC-LOCATION:Europe/Berlin
BEGIN:DAYLIGHT
TZOFFSETFROM:+0100
TZOFFSETTO:+0200
TZNAME:CEST
DTSTART;TZID=Europe/Berlin:19700329T020000
RRULE:FREQ=YEARLY;INTERVAL=1;BYDAY=-1SU;BYMONTH=3
END:DAYLIGHT
BEGIN:STANDARD
TZOFFSETFROM:+0200
TZOFFSETTO:+0100
TZNAME:CET
DTSTART;TZID=Europe/Berlin:19701025T030000
RRULE:FREQ=YEARLY;INTERVAL=1;BYDAY=-1SU;BYMONTH=10
END:STANDARD
END:VTIMEZONE
BEGIN:VEVENT
DTSTAMP:20260421T104328
DTSTART;TZID=Europe/Berlin:20260211T090000
DTEND;TZID=Europe/Berlin:20260211T103000
UID:R52381-20260211T090000@VHSWITTEN-WETTER-HERDECKE
SUMMARY:Englisch auf dem Level A2, Teil 1 (R52381) 
LOCATION:Bürgerhaus Wetter, Kaiserstr. 132, 58300 Wetter
END:VEVENT
BEGIN:VEVENT
DTSTAMP:20260421T104328
DTSTART;TZID=Europe/Berlin:20260218T090000
DTEND;TZID=Europe/Berlin:20260218T103000
UID:R52381-20260218T090000@VHSWITTEN-WETTER-HERDECKE
SUMMARY:Englisch auf dem Level A2, Teil 1 (R52381) 
LOCATION:Bürgerhaus Wetter, Kaiserstr. 132, 58300 Wetter
END:VEVENT
BEGIN:VEVENT
DTSTAMP:20260421T104328
DTSTART;TZID=Europe/Berlin:20260225T090000
DTEND;TZID=Europe/Berlin:20260225T103000
UID:R52381-20260225T090000@VHSWITTEN-WETTER-HERDECKE
SUMMARY:Englisch auf dem Level A2, Teil 1 (R52381) 
LOCATION:Bürgerhaus Wetter, Kaiserstr. 132, 58300 Wetter
END:VEVENT
BEGIN:VEVENT
DTSTAMP:20260421T104328
DTSTART;TZID=Europe/Berlin:20260304T090000
DTEND;TZID=Europe/Berlin:20260304T103000
UID:R52381-20260304T090000@VHSWITTEN-WETTER-HERDECKE
SUMMARY:Englisch auf dem Level A2, Teil 1 (R52381) 
LOCATION:Bürgerhaus Wetter, Kaiserstr. 132, 58300 Wetter
END:VEVENT
BEGIN:VEVENT
DTSTAMP:20260421T104328
DTSTART;TZID=Europe/Berlin:20260311T090000
DTEND;TZID=Europe/Berlin:20260311T103000
UID:R52381-20260311T090000@VHSWITTEN-WETTER-HERDECKE
SUMMARY:Englisch auf dem Level A2, Teil 1 (R52381) 
LOCATION:Bürgerhaus Wetter, Kaiserstr. 132, 58300 Wetter
END:VEVENT
BEGIN:VEVENT
DTSTAMP:20260421T104328
DTSTART;TZID=Europe/Berlin:20260318T090000
DTEND;TZID=Europe/Berlin:20260318T103000
UID:R52381-20260318T090000@VHSWITTEN-WETTER-HERDECKE
SUMMARY:Englisch auf dem Level A2, Teil 1 (R52381) 
LOCATION:Bürgerhaus Wetter, Kaiserstr. 132, 58300 Wetter
END:VEVENT
BEGIN:VEVENT
DTSTAMP:20260421T104328
DTSTART;TZID=Europe/Berlin:20260325T090000
DTEND;TZID=Europe/Berlin:20260325T103000
UID:R52381-20260325T090000@VHSWITTEN-WETTER-HERDECKE
SUMMARY:Englisch auf dem Level A2, Teil 1 (R52381) 
LOCATION:Bürgerhaus Wetter, Kaiserstr. 132, 58300 Wetter
END:VEVENT
END:VCALENDAR