BEGIN:VCALENDAR
VERSION:2.0
PRODID:http://www.kufer.de/kuferweb / DE
METHOD:PUBLISH
CALSCALE:GREGORIAN
X-WR-TIMEZONE:Europe/Berlin
BEGIN:VTIMEZONE
TZID:Europe/Berlin
X-LIC-LOCATION:Europe/Berlin
BEGIN:DAYLIGHT
TZOFFSETFROM:+0100
TZOFFSETTO:+0200
TZNAME:CEST
DTSTART;TZID=Europe/Berlin:19700329T020000
RRULE:FREQ=YEARLY;INTERVAL=1;BYDAY=-1SU;BYMONTH=3
END:DAYLIGHT
BEGIN:STANDARD
TZOFFSETFROM:+0200
TZOFFSETTO:+0100
TZNAME:CET
DTSTART;TZID=Europe/Berlin:19701025T030000
RRULE:FREQ=YEARLY;INTERVAL=1;BYDAY=-1SU;BYMONTH=10
END:STANDARD
END:VTIMEZONE
BEGIN:VEVENT
DTSTAMP:20260421T163123
DTSTART;TZID=Europe/Berlin:20260210T153000
DTEND;TZID=Europe/Berlin:20260210T170000
UID:R52361-20260210T153000@VHSWITTEN-WETTER-HERDECKE
SUMMARY:Englisch für den Wiedereinstieg, Level A2,   Kleingruppe, Teil 1 (R52361) 
LOCATION:vhs Seminarzentrum, Raum 303, Holzkampstr. 7, 58453 Witten
END:VEVENT
BEGIN:VEVENT
DTSTAMP:20260421T163123
DTSTART;TZID=Europe/Berlin:20260217T153000
DTEND;TZID=Europe/Berlin:20260217T170000
UID:R52361-20260217T153000@VHSWITTEN-WETTER-HERDECKE
SUMMARY:Englisch für den Wiedereinstieg, Level A2,   Kleingruppe, Teil 1 (R52361) 
LOCATION:vhs Seminarzentrum, Raum 106, , 
END:VEVENT
BEGIN:VEVENT
DTSTAMP:20260421T163123
DTSTART;TZID=Europe/Berlin:20260224T153000
DTEND;TZID=Europe/Berlin:20260224T170000
UID:R52361-20260224T153000@VHSWITTEN-WETTER-HERDECKE
SUMMARY:Englisch für den Wiedereinstieg, Level A2,   Kleingruppe, Teil 1 (R52361) 
LOCATION:vhs Seminarzentrum, Raum 303, Holzkampstr. 7, 58453 Witten
END:VEVENT
BEGIN:VEVENT
DTSTAMP:20260421T163123
DTSTART;TZID=Europe/Berlin:20260303T153000
DTEND;TZID=Europe/Berlin:20260303T170000
UID:R52361-20260303T153000@VHSWITTEN-WETTER-HERDECKE
SUMMARY:Englisch für den Wiedereinstieg, Level A2,   Kleingruppe, Teil 1 (R52361) 
LOCATION:vhs Seminarzentrum, Raum 303, Holzkampstr. 7, 58453 Witten
END:VEVENT
BEGIN:VEVENT
DTSTAMP:20260421T163123
DTSTART;TZID=Europe/Berlin:20260310T153000
DTEND;TZID=Europe/Berlin:20260310T170000
UID:R52361-20260310T153000@VHSWITTEN-WETTER-HERDECKE
SUMMARY:Englisch für den Wiedereinstieg, Level A2,   Kleingruppe, Teil 1 (R52361) 
LOCATION:vhs Seminarzentrum, Raum 303, Holzkampstr. 7, 58453 Witten
END:VEVENT
BEGIN:VEVENT
DTSTAMP:20260421T163123
DTSTART;TZID=Europe/Berlin:20260317T153000
DTEND;TZID=Europe/Berlin:20260317T170000
UID:R52361-20260317T153000@VHSWITTEN-WETTER-HERDECKE
SUMMARY:Englisch für den Wiedereinstieg, Level A2,   Kleingruppe, Teil 1 (R52361) 
LOCATION:vhs Seminarzentrum, Raum 303, Holzkampstr. 7, 58453 Witten
END:VEVENT
BEGIN:VEVENT
DTSTAMP:20260421T163123
DTSTART;TZID=Europe/Berlin:20260324T153000
DTEND;TZID=Europe/Berlin:20260324T170000
UID:R52361-20260324T153000@VHSWITTEN-WETTER-HERDECKE
SUMMARY:Englisch für den Wiedereinstieg, Level A2,   Kleingruppe, Teil 1 (R52361) 
LOCATION:vhs Seminarzentrum, Raum 303, Holzkampstr. 7, 58453 Witten
END:VEVENT
END:VCALENDAR