BEGIN:VCALENDAR
VERSION:2.0
PRODID:http://www.kufer.de/kuferweb / DE
METHOD:PUBLISH
CALSCALE:GREGORIAN
X-WR-TIMEZONE:Europe/Berlin
BEGIN:VTIMEZONE
TZID:Europe/Berlin
X-LIC-LOCATION:Europe/Berlin
BEGIN:DAYLIGHT
TZOFFSETFROM:+0100
TZOFFSETTO:+0200
TZNAME:CEST
DTSTART;TZID=Europe/Berlin:19700329T020000
RRULE:FREQ=YEARLY;INTERVAL=1;BYDAY=-1SU;BYMONTH=3
END:DAYLIGHT
BEGIN:STANDARD
TZOFFSETFROM:+0200
TZOFFSETTO:+0100
TZNAME:CET
DTSTART;TZID=Europe/Berlin:19701025T030000
RRULE:FREQ=YEARLY;INTERVAL=1;BYDAY=-1SU;BYMONTH=10
END:STANDARD
END:VTIMEZONE
BEGIN:VEVENT
DTSTAMP:20260421T232128
DTSTART;TZID=Europe/Berlin:20260217T191500
DTEND;TZID=Europe/Berlin:20260217T204500
UID:R41641-20260217T191500@VHSWITTEN-WETTER-HERDECKE
SUMMARY:Yin und Faszien Yoga (R41641) 
LOCATION:vhs Seminarzentrum, Raum 124, M.-Ostermann-Lounge, Holzkampstr. 7, 58453 Witten
END:VEVENT
BEGIN:VEVENT
DTSTAMP:20260421T232128
DTSTART;TZID=Europe/Berlin:20260224T191500
DTEND;TZID=Europe/Berlin:20260224T204500
UID:R41641-20260224T191500@VHSWITTEN-WETTER-HERDECKE
SUMMARY:Yin und Faszien Yoga (R41641) 
LOCATION:vhs Seminarzentrum, Raum 124, M.-Ostermann-Lounge, Holzkampstr. 7, 58453 Witten
END:VEVENT
BEGIN:VEVENT
DTSTAMP:20260421T232128
DTSTART;TZID=Europe/Berlin:20260303T191500
DTEND;TZID=Europe/Berlin:20260303T204500
UID:R41641-20260303T191500@VHSWITTEN-WETTER-HERDECKE
SUMMARY:Yin und Faszien Yoga (R41641) 
LOCATION:vhs Seminarzentrum, Raum 124, M.-Ostermann-Lounge, Holzkampstr. 7, 58453 Witten
END:VEVENT
BEGIN:VEVENT
DTSTAMP:20260421T232128
DTSTART;TZID=Europe/Berlin:20260310T191500
DTEND;TZID=Europe/Berlin:20260310T204500
UID:R41641-20260310T191500@VHSWITTEN-WETTER-HERDECKE
SUMMARY:Yin und Faszien Yoga (R41641) 
LOCATION:vhs Seminarzentrum, Raum 124, M.-Ostermann-Lounge, Holzkampstr. 7, 58453 Witten
END:VEVENT
BEGIN:VEVENT
DTSTAMP:20260421T232128
DTSTART;TZID=Europe/Berlin:20260317T191500
DTEND;TZID=Europe/Berlin:20260317T204500
UID:R41641-20260317T191500@VHSWITTEN-WETTER-HERDECKE
SUMMARY:Yin und Faszien Yoga (R41641) 
LOCATION:vhs Seminarzentrum, Raum 124, M.-Ostermann-Lounge, Holzkampstr. 7, 58453 Witten
END:VEVENT
BEGIN:VEVENT
DTSTAMP:20260421T232128
DTSTART;TZID=Europe/Berlin:20260324T191500
DTEND;TZID=Europe/Berlin:20260324T204500
UID:R41641-20260324T191500@VHSWITTEN-WETTER-HERDECKE
SUMMARY:Yin und Faszien Yoga (R41641) 
LOCATION:vhs Seminarzentrum, Raum 124, M.-Ostermann-Lounge, Holzkampstr. 7, 58453 Witten
END:VEVENT
END:VCALENDAR