BEGIN:VCALENDAR
VERSION:2.0
PRODID:http://www.kufer.de/kuferweb / DE
METHOD:PUBLISH
CALSCALE:GREGORIAN
X-WR-TIMEZONE:Europe/Berlin
BEGIN:VTIMEZONE
TZID:Europe/Berlin
X-LIC-LOCATION:Europe/Berlin
BEGIN:DAYLIGHT
TZOFFSETFROM:+0100
TZOFFSETTO:+0200
TZNAME:CEST
DTSTART;TZID=Europe/Berlin:19700329T020000
RRULE:FREQ=YEARLY;INTERVAL=1;BYDAY=-1SU;BYMONTH=3
END:DAYLIGHT
BEGIN:STANDARD
TZOFFSETFROM:+0200
TZOFFSETTO:+0100
TZNAME:CET
DTSTART;TZID=Europe/Berlin:19701025T030000
RRULE:FREQ=YEARLY;INTERVAL=1;BYDAY=-1SU;BYMONTH=10
END:STANDARD
END:VTIMEZONE
BEGIN:VEVENT
DTSTAMP:20260421T104343
DTSTART;TZID=Europe/Berlin:20260211T183000
DTEND;TZID=Europe/Berlin:20260211T200000
UID:R33051-20260211T183000@VHSWITTEN-WETTER-HERDECKE
SUMMARY:Stricken: Islandpullover  - von der ersten Masche bis zum individuellen Pullover (R33051) 
LOCATION:Hof Kämpen, Kämpenstr. 31, 58456 Witten
END:VEVENT
BEGIN:VEVENT
DTSTAMP:20260421T104343
DTSTART;TZID=Europe/Berlin:20260225T183000
DTEND;TZID=Europe/Berlin:20260225T200000
UID:R33051-20260225T183000@VHSWITTEN-WETTER-HERDECKE
SUMMARY:Stricken: Islandpullover  - von der ersten Masche bis zum individuellen Pullover (R33051) 
LOCATION:Hof Kämpen, Kämpenstr. 31, 58456 Witten
END:VEVENT
BEGIN:VEVENT
DTSTAMP:20260421T104343
DTSTART;TZID=Europe/Berlin:20260304T183000
DTEND;TZID=Europe/Berlin:20260304T200000
UID:R33051-20260304T183000@VHSWITTEN-WETTER-HERDECKE
SUMMARY:Stricken: Islandpullover  - von der ersten Masche bis zum individuellen Pullover (R33051) 
LOCATION:Hof Kämpen, Kämpenstr. 31, 58456 Witten
END:VEVENT
BEGIN:VEVENT
DTSTAMP:20260421T104343
DTSTART;TZID=Europe/Berlin:20260311T183000
DTEND;TZID=Europe/Berlin:20260311T200000
UID:R33051-20260311T183000@VHSWITTEN-WETTER-HERDECKE
SUMMARY:Stricken: Islandpullover  - von der ersten Masche bis zum individuellen Pullover (R33051) 
LOCATION:Hof Kämpen, Kämpenstr. 31, 58456 Witten
END:VEVENT
BEGIN:VEVENT
DTSTAMP:20260421T104343
DTSTART;TZID=Europe/Berlin:20260318T183000
DTEND;TZID=Europe/Berlin:20260318T200000
UID:R33051-20260318T183000@VHSWITTEN-WETTER-HERDECKE
SUMMARY:Stricken: Islandpullover  - von der ersten Masche bis zum individuellen Pullover (R33051) 
LOCATION:Hof Kämpen, Kämpenstr. 31, 58456 Witten
END:VEVENT
BEGIN:VEVENT
DTSTAMP:20260421T104343
DTSTART;TZID=Europe/Berlin:20260325T183000
DTEND;TZID=Europe/Berlin:20260325T200000
UID:R33051-20260325T183000@VHSWITTEN-WETTER-HERDECKE
SUMMARY:Stricken: Islandpullover  - von der ersten Masche bis zum individuellen Pullover (R33051) 
LOCATION:Hof Kämpen, Kämpenstr. 31, 58456 Witten
END:VEVENT
END:VCALENDAR