BEGIN:VCALENDAR
VERSION:2.0
PRODID:http://www.kufer.de/kuferweb / DE
METHOD:PUBLISH
CALSCALE:GREGORIAN
X-WR-TIMEZONE:Europe/Berlin
BEGIN:VTIMEZONE
TZID:Europe/Berlin
X-LIC-LOCATION:Europe/Berlin
BEGIN:DAYLIGHT
TZOFFSETFROM:+0100
TZOFFSETTO:+0200
TZNAME:CEST
DTSTART;TZID=Europe/Berlin:19700329T020000
RRULE:FREQ=YEARLY;INTERVAL=1;BYDAY=-1SU;BYMONTH=3
END:DAYLIGHT
BEGIN:STANDARD
TZOFFSETFROM:+0200
TZOFFSETTO:+0100
TZNAME:CET
DTSTART;TZID=Europe/Berlin:19701025T030000
RRULE:FREQ=YEARLY;INTERVAL=1;BYDAY=-1SU;BYMONTH=10
END:STANDARD
END:VTIMEZONE
BEGIN:VEVENT
DTSTAMP:20260421T104337
DTSTART;TZID=Europe/Berlin:20240429T193000
DTEND;TZID=Europe/Berlin:20240429T210000
UID:P540712-20240429T193000@VHSWITTEN-WETTER-HERDECKE
SUMMARY:Italienisch XIV, A2-B1, Teil 2 (P540712) 
LOCATION:Albert-Martmöller-Gymnasium, Oberdorf 9, 58452 Witten
END:VEVENT
BEGIN:VEVENT
DTSTAMP:20260421T104337
DTSTART;TZID=Europe/Berlin:20240506T193000
DTEND;TZID=Europe/Berlin:20240506T210000
UID:P540712-20240506T193000@VHSWITTEN-WETTER-HERDECKE
SUMMARY:Italienisch XIV, A2-B1, Teil 2 (P540712) 
LOCATION:Albert-Martmöller-Gymnasium, Oberdorf 9, 58452 Witten
END:VEVENT
BEGIN:VEVENT
DTSTAMP:20260421T104337
DTSTART;TZID=Europe/Berlin:20240527T193000
DTEND;TZID=Europe/Berlin:20240527T210000
UID:P540712-20240527T193000@VHSWITTEN-WETTER-HERDECKE
SUMMARY:Italienisch XIV, A2-B1, Teil 2 (P540712) 
LOCATION:Albert-Martmöller-Gymnasium, Oberdorf 9, 58452 Witten
END:VEVENT
BEGIN:VEVENT
DTSTAMP:20260421T104337
DTSTART;TZID=Europe/Berlin:20240603T193000
DTEND;TZID=Europe/Berlin:20240603T210000
UID:P540712-20240603T193000@VHSWITTEN-WETTER-HERDECKE
SUMMARY:Italienisch XIV, A2-B1, Teil 2 (P540712) 
LOCATION:Albert-Martmöller-Gymnasium, Oberdorf 9, 58452 Witten
END:VEVENT
BEGIN:VEVENT
DTSTAMP:20260421T104337
DTSTART;TZID=Europe/Berlin:20240610T193000
DTEND;TZID=Europe/Berlin:20240610T210000
UID:P540712-20240610T193000@VHSWITTEN-WETTER-HERDECKE
SUMMARY:Italienisch XIV, A2-B1, Teil 2 (P540712) 
LOCATION:Albert-Martmöller-Gymnasium, Oberdorf 9, 58452 Witten
END:VEVENT
BEGIN:VEVENT
DTSTAMP:20260421T104337
DTSTART;TZID=Europe/Berlin:20240617T193000
DTEND;TZID=Europe/Berlin:20240617T210000
UID:P540712-20240617T193000@VHSWITTEN-WETTER-HERDECKE
SUMMARY:Italienisch XIV, A2-B1, Teil 2 (P540712) 
LOCATION:Albert-Martmöller-Gymnasium, Oberdorf 9, 58452 Witten
END:VEVENT
BEGIN:VEVENT
DTSTAMP:20260421T104337
DTSTART;TZID=Europe/Berlin:20240624T193000
DTEND;TZID=Europe/Berlin:20240624T210000
UID:P540712-20240624T193000@VHSWITTEN-WETTER-HERDECKE
SUMMARY:Italienisch XIV, A2-B1, Teil 2 (P540712) 
LOCATION:Albert-Martmöller-Gymnasium, Oberdorf 9, 58452 Witten
END:VEVENT
BEGIN:VEVENT
DTSTAMP:20260421T104337
DTSTART;TZID=Europe/Berlin:20240701T193000
DTEND;TZID=Europe/Berlin:20240701T210000
UID:P540712-20240701T193000@VHSWITTEN-WETTER-HERDECKE
DESCRIPTION:Ersatz für Ausfall am 13.05.2024
SUMMARY:Italienisch XIV, A2-B1, Teil 2 (P540712) 
LOCATION:Albert-Martmöller-Gymnasium, Oberdorf 9, 58452 Witten
END:VEVENT
END:VCALENDAR